BEGIN:VCALENDAR
VERSION:2.0
PRODID:-//DENTSIM Education - ECPv6.15.17.1//NONSGML v1.0//EN
CALSCALE:GREGORIAN
METHOD:PUBLISH
X-WR-CALNAME:DENTSIM Education
X-ORIGINAL-URL:https://education.dentsim.ro
X-WR-CALDESC:Evenimente pentru DENTSIM Education
REFRESH-INTERVAL;VALUE=DURATION:PT1H
X-Robots-Tag:noindex
X-PUBLISHED-TTL:PT1H
BEGIN:VTIMEZONE
TZID:Europe/Bucharest
BEGIN:DAYLIGHT
TZOFFSETFROM:+0200
TZOFFSETTO:+0300
TZNAME:EEST
DTSTART:20220327T010000
END:DAYLIGHT
BEGIN:STANDARD
TZOFFSETFROM:+0300
TZOFFSETTO:+0200
TZNAME:EET
DTSTART:20221030T010000
END:STANDARD
BEGIN:DAYLIGHT
TZOFFSETFROM:+0200
TZOFFSETTO:+0300
TZNAME:EEST
DTSTART:20230326T010000
END:DAYLIGHT
BEGIN:STANDARD
TZOFFSETFROM:+0300
TZOFFSETTO:+0200
TZNAME:EET
DTSTART:20231029T010000
END:STANDARD
BEGIN:DAYLIGHT
TZOFFSETFROM:+0200
TZOFFSETTO:+0300
TZNAME:EEST
DTSTART:20240331T010000
END:DAYLIGHT
BEGIN:STANDARD
TZOFFSETFROM:+0300
TZOFFSETTO:+0200
TZNAME:EET
DTSTART:20241027T010000
END:STANDARD
BEGIN:DAYLIGHT
TZOFFSETFROM:+0200
TZOFFSETTO:+0300
TZNAME:EEST
DTSTART:20250330T010000
END:DAYLIGHT
BEGIN:STANDARD
TZOFFSETFROM:+0300
TZOFFSETTO:+0200
TZNAME:EET
DTSTART:20251026T010000
END:STANDARD
BEGIN:DAYLIGHT
TZOFFSETFROM:+0200
TZOFFSETTO:+0300
TZNAME:EEST
DTSTART:20260329T010000
END:DAYLIGHT
BEGIN:STANDARD
TZOFFSETFROM:+0300
TZOFFSETTO:+0200
TZNAME:EET
DTSTART:20261025T010000
END:STANDARD
END:VTIMEZONE
BEGIN:VEVENT
DTSTART;TZID=Europe/Bucharest:20250208T100000
DTEND;TZID=Europe/Bucharest:20250208T150000
DTSTAMP:20260420T174906
CREATED:20241031T103601Z
LAST-MODIFIED:20250212T142027Z
UID:3042-1739008800-1739026800@education.dentsim.ro
SUMMARY:Workshop Fotografie Dentară
DESCRIPTION:Cum se desfășoară?\nÎncepem cu o scurtă teorie pentru a învăța setările aparatului de fotografiat urmând partea practică în care vom realiza tot protocolul de fotografii intraorale\, extraorale și de studio și vom învăța cum să ajustăm fotografiile\, să realizăm profilul pacientului\, postări pentru social media și pentru marketing. \nWorkshopul este conceput pentru un grup de 4 participanți\, astfel încât fiecare participant să poată experimenta rolurile de medic\, asistent și pacient în mod corespunzător. \nCe vei învăța?\nLa partea teoretică vei învăța: \n· cum funcționează aparatul de fotografiat DSLR; \n· detalii despre blitz-urile ring flash și twin flash; \n· protocol pentru fotografii intraorale\, extraorale și de studio; \n· cum să alegi aparatul de fotografiat adaptat nevoilor tale; \n· cum să setezi aparatul să obții cele mai calitative fotografii. \n\nLa partea practică vei executa toate fotografiile intraorale\, extraorale și de studio\, vei învăța cum trebuie să te ajute asistenta când faci fotografiile intraorale și vei învăța cum sa ajustezi fotografiile pentru realizarea profilului pacientului\, postări pentru social media și pentru marketing. \n\n\n\n\n\n \n\n \n \n\n\n \n \n\nView this post on Instagram\n\n \n\n\n \n \n \n\n\n \n \n\n\n \n \n \n\n\n\n \n \n\nA post shared by 𝗗𝗿. 𝗦𝗶𝗺𝗶𝗼𝗻𝗲𝘀𝗰𝘂 𝗠𝗮𝗱𝗮𝗹𝗶𝗻 (@doctor.simionescu) \n\n\n\n\nProgram:\n\n\n\n10:00 – 10:45   Teorie \n10:45 – 11:00   Pauză \n11:00 – 13:00   Practică – Fotografii intraorale\, extraorale și de studio. \n13:00 – 13:30   Pauză \n13:30 – 15:00   Practică – Realizare profil pacient și ajustare fotografii pentru social media.   \nTarif:\n\n1000 RON (1 Decembrie 2024 – 15 Ianuarie 2025)\n1150 RON (16 Ianuarie 2025 – 1 Februarie 2025)\n1250 RON (2 Februarie 2025 – 7 Februarie 2025)\n\n*Taxa de înscriere se înapoiază astfel: \n\n100% până pe 15 Ianuarie 2025;\n75% până pe 2 Februarie 2025;\n25% până pe 7 Februarie 2025.\n\n\n\n\nSpeaker:\n\n\n\n\ndr. Simionescu Mădălin
URL:https://education.dentsim.ro/curs/workshop-fotografie-dentara-2/
LOCATION:Clinica DentSIM\, Strada Tudor Vianu\, Numărul 3\, Etaj 4\, București\, Sector 1\, 011635\, România
ATTACH;FMTTYPE=image/webp:https://education.dentsim.ro/wp-content/uploads/2023/05/curs_fotografie_ian_2024.webp
ORGANIZER;CN="DentSIM":MAILTO:education@dentsim.ro
END:VEVENT
BEGIN:VEVENT
DTSTART;TZID=Europe/Bucharest:20241207T100000
DTEND;TZID=Europe/Bucharest:20241207T180000
DTSTAMP:20260420T174906
CREATED:20241015T101838Z
LAST-MODIFIED:20241031T100123Z
UID:3006-1733565600-1733594400@education.dentsim.ro
SUMMARY:Obturații în zona posterioară
DESCRIPTION:Curs hands-on intensiv de 8 ore\, dedicat specialiștilor din domeniul stomatologic\, în care ne vom concentra pe tehnici practice și aplicații concrete. \nCum se desfășoară?\nÎncepem cu o scurtă teorie despre aspectele esențiale ale morfologiei dentare și principalele tehnici prin care poți realiza obturații fizionomice cu aspect natural. \nUrmează partea practică în care învățăm cum să izolăm corect câmpul de lucru\, vom realiza obturații pe dinții din zona posterioară (cls. I\, cls II\, MOD) și la final vom aplica diferite metode de finisare/lustruire. \nSorry\, your browser doesn't support embedded videos.\n  \nCe vei învăța?\nVom discuta despre cele mai bune metode de izolare a câmpului de lucru pentru a asigura un tratament de calitate și vei învăța cum să realizezi obturații fizionomice care să se integreze perfect în cavitatea orală\, cum să faci corect punctul de contact interdentar\, cum să realizezi modelajul ocluzal să nu se vadă limita dinte/obturație și cum să realizezi o finisare/lustruire cât mai eficientă. \n\n \n\nProgram:\n\n\n\n10:00 – 10:15   Primirea participanțiilor \n10:15 – 11:30   Teorie \n11:30 – 12:00   Coffee break \n12:00 – 14:30   Practică – Izolarea cu digă și realizarea obturațiilor cav. I și II  \n14:30 – 15:30   Lunch \n15:30 – 17:30   Practică – Realizarea obturațiilor MOD și realizarea etapei de finisare/lustruire \n17:30 – 18:00   Q&A \n  \nTarif:\n\n\n \n\n2250 RON (15 Octombrie 2024 – 1 Noiembrie 2024)\n2350 RON (2 Noiembrie 2024 – 1 Decembrie 2024)\n2450 RON (1 Decembrie 2024 – 7 Decembrie 2024)\n\n*Taxa de înscriere se înapoiază astfel: \n\n100% până pe 1 Noiembrie 2024;\n75% până pe 1 Decembrie 2024;\n25% până pe 7 Decembrie 2024.\n\n  \n\n\n\nSpeaker:\n\n\n\ndr. Simionescu Mădălin
URL:https://education.dentsim.ro/curs/hands-on-obturatii-dentare-1/
LOCATION:Clinica DentSIM\, Strada Tudor Vianu\, Numărul 3\, Etaj 4\, București\, Sector 1\, 011635\, România
ATTACH;FMTTYPE=image/webp:https://education.dentsim.ro/wp-content/uploads/2024/10/meniu-ob-posterior-soldout.webp
ORGANIZER;CN="DentSIM":MAILTO:education@dentsim.ro
END:VEVENT
BEGIN:VEVENT
DTSTART;TZID=Europe/Bucharest:20240928T100000
DTEND;TZID=Europe/Bucharest:20240928T160000
DTSTAMP:20260420T174906
CREATED:20240807T122650Z
LAST-MODIFIED:20241015T112817Z
UID:2973-1727517600-1727539200@education.dentsim.ro
SUMMARY:Workshop Fotografie Dentară
DESCRIPTION:Cum se desfășoară?\nÎncepem cu o scurtă teorie pentru a învăța setările aparatului de fotografiat urmând partea practică în care vom realiza tot protocolul de fotografii intraorale\, extraorale și de studio și vom învăța cum să ajustăm fotografiile\, să realizăm profilul pacientului\, postări pentru social media și pentru marketing. \nWorkshopul este conceput pentru un grup de 4 participanți\, astfel încât fiecare participant să poată experimenta rolurile de medic\, asistent și pacient în mod corespunzător. \nCe vei învăța?\nLa partea teoretică vei învăța: \n· cum funcționează aparatul de fotografiat DSLR; \n· detalii despre blitz-urile ring flash și twin flash; \n· protocol pentru fotografii intraorale\, extraorale și de studio; \n· cum să alegi aparatul de fotografiat adaptat nevoilor tale; \n· cum să setezi aparatul să obții cele mai calitative fotografii. \n\nLa partea practică vei executa toate fotografiile intraorale\, extraorale și de studio\, vei învăța cum trebuie să te ajute asistenta când faci fotografiile intraorale și vei învăța cum sa ajustezi fotografiile pentru realizarea profilului pacientului\, postări pentru social media și pentru marketing. \n\n\n\n\n\n \n\n \n \n\n\n \n \n\nView this post on Instagram\n\n \n\n\n \n \n \n\n\n \n \n\n\n \n \n \n\n\n\n \n \n\nA post shared by 𝗗𝗿. 𝗦𝗶𝗺𝗶𝗼𝗻𝗲𝘀𝗰𝘂 𝗠𝗮𝗱𝗮𝗹𝗶𝗻 (@doctor.simionescu) \n\n\n\n\nProgram:\n\n\n\n10:00 – 10:45   Teorie10:45 – 11:00   Pauză11:00 – 13:00   Practică – Fotografii intraorale\, extraorale și de studio.13:00 – 13:30   Pauză13:30 – 15:00   Practică – Realizare profil pacient și ajustare fotografii pentru social media. \n\n\n\nSpeaker:\n\n\n\ndr. Simionescu Mădălin
URL:https://education.dentsim.ro/curs/workshop-fotografie-dentara/
LOCATION:Clinica DentSIM\, Strada Tudor Vianu\, Numărul 3\, Etaj 4\, București\, Sector 1\, 011635\, România
ATTACH;FMTTYPE=image/png:https://education.dentsim.ro/wp-content/uploads/2023/05/curs_fotografie_ian_2024-sold-out.png
ORGANIZER;CN="DentSIM":MAILTO:education@dentsim.ro
END:VEVENT
BEGIN:VEVENT
DTSTART;TZID=Europe/Bucharest:20240830T100000
DTEND;TZID=Europe/Bucharest:20240830T150000
DTSTAMP:20260420T174906
CREATED:20240213T175307Z
LAST-MODIFIED:20240807T121939Z
UID:2961-1725012000-1725030000@education.dentsim.ro
SUMMARY:Fotografie Dentara
DESCRIPTION:Cum se desfășoară?\nÎncepem cu o scurtă teorie pentru a învăța setările aparatului de fotografiat urmând partea practică în care vom realiza tot protocolul de fotografii intraorale\, extraorale și de studio și vom învăța cum să ajustăm fotografiile\, să realizăm profilul pacientului\, postări pentru social media și pentru marketing. \n\nCe vei învăța?\nLa partea teoretică vei învăța: \n· cum funcționează aparatul de fotografiat DSLR; \n· detalii despre blitz-urile ring flash și twin flash; \n· protocol pentru fotografii intraorale\, extraorale și de studio; \n· cum să alegi aparatul de fotografiat adaptat nevoilor tale; \n· cum să setezi aparatul să obții cele mai calitative fotografii. \n\nLa partea practică vei executa toate fotografiile intraorale\, extraorale și de studio\, vei învăța cum trebuie să te ajute asistenta când faci fotografiile intraorale și vei învăța cum sa ajustezi fotografiile pentru realizarea profilului pacientului\, postări pentru social media și pentru marketing. \nFiecare participant va avea rol de medic\, asistent și pacient. \n\n\n\n\n\n\n \n\n \n \n\n\n \n \n\nView this post on Instagram\n\n \n\n\n \n \n \n\n\n \n \n\n\n \n \n \n\n\n\n \n \n\nA post shared by 𝗗𝗿. 𝗦𝗶𝗺𝗶𝗼𝗻𝗲𝘀𝗰𝘂 𝗠𝗮𝗱𝗮𝗹𝗶𝗻 (@doctor.simionescu) \n\n\n\n\n\nProgram:\n\n\n\n10:00 – 10:45   Teorie10:45 – 11:00   Pauză11:00 – 13:00   Practică – Fotografii intraorale\, extraorale și de studio.13:00 – 13:30   Pauză13:30 – 15:00   Practică – Realizare profil pacient și ajustare fotografii pentru social media. \n\n\n\nSpeaker:\n\n\n\ndr. Simionescu Mădălin
URL:https://education.dentsim.ro/curs/fotografie-dentara-4/
LOCATION:Clinica DentSIM\, Strada Tudor Vianu\, Numărul 3\, Etaj 4\, București\, Sector 1\, 011635\, România
ATTACH;FMTTYPE=image/png:https://education.dentsim.ro/wp-content/uploads/2023/05/curs_fotografie_ian_2024-sold-out.png
ORGANIZER;CN="DentSIM":MAILTO:education@dentsim.ro
END:VEVENT
BEGIN:VEVENT
DTSTART;TZID=Europe/Bucharest:20240217T100000
DTEND;TZID=Europe/Bucharest:20240217T143000
DTSTAMP:20260420T174906
CREATED:20240130T202307Z
LAST-MODIFIED:20240213T174104Z
UID:2943-1708164000-1708180200@education.dentsim.ro
SUMMARY:Fotografie Dentară
DESCRIPTION:Cum se desfășoară?\nÎncepem cu o scurtă teorie pentru a învăța setările aparatului de fotografiat urmând partea practică în care vom realiza tot protocolul de fotografii intraorale\, extraorale și de studio și vom învăța cum să ajustăm fotografiile\, să realizăm profilul pacientului\, postări pentru social media și pentru marketing. \n\nCe vei învăța?\nLa partea teoretică vei învăța: \n· cum funcționează aparatul de fotografiat DSLR; \n· detalii despre blitz-urile ring flash și twin flash; \n· protocol pentru fotografii intraorale\, extraorale și de studio; \n· cum să alegi aparatul de fotografiat adaptat nevoilor tale; \n· cum să setezi aparatul să obții cele mai calitative fotografii. \n\nLa partea practică vei executa toate fotografiile intraorale\, extraorale și de studio\, vei învăța cum trebuie să te ajute asistenta când faci fotografiile intraorale și vei învăța cum sa ajustezi fotografiile pentru realizarea profilului pacientului\, postări pentru social media și pentru marketing. \nFiecare participant va avea rol de medic\, asistent și pacient. \n\n\n\n\n\n\n \n\n \n \n\n\n \n \n\nView this post on Instagram\n\n \n\n\n \n \n \n\n\n \n \n\n\n \n \n \n\n\n\n \n \n\nA post shared by 𝗗𝗿. 𝗦𝗶𝗺𝗶𝗼𝗻𝗲𝘀𝗰𝘂 𝗠𝗮𝗱𝗮𝗹𝗶𝗻 (@doctor.simionescu) \n\n\n\n\n\nProgram:\n\n\n\n10:00 – 10:45   Teorie10:45 – 11:00   Pauză11:00 – 13:00   Practică – Fotografii intraorale\, extraorale și de studio.13:00 – 13:30   Pauză13:30 – 14:30   Practică – Realizare profil pacient și ajustare fotografii pentru social media. \n\n\n\nSpeaker:\n\n\n\ndr. Simionescu Mădălin
URL:https://education.dentsim.ro/curs/fotografie-dentara-2/
LOCATION:Clinica DentSIM\, Strada Tudor Vianu\, Numărul 3\, Etaj 4\, București\, Sector 1\, 011635\, România
ATTACH;FMTTYPE=image/png:https://education.dentsim.ro/wp-content/uploads/2023/05/curs_fotografie_ian_2024-sold-out.png
ORGANIZER;CN="DentSIM":MAILTO:education@dentsim.ro
END:VEVENT
BEGIN:VEVENT
DTSTART;TZID=Europe/Bucharest:20240127T090000
DTEND;TZID=Europe/Bucharest:20240127T163000
DTSTAMP:20260420T174906
CREATED:20230511T150252Z
LAST-MODIFIED:20240110T073944Z
UID:2862-1706346000-1706373000@education.dentsim.ro
SUMMARY:Fotografie Dentară
DESCRIPTION:Cum se desfășoară?\n\n\n\nÎncepem cu o scurtă teorie pentru a învăța setările aparatului de fotografiat urmând partea practică în care vom realiza tot protocolul de fotografii intraorale\, extraorale și de studio și vom învăța cum să ajustăm fotografiile\, să realizăm profilul pacientului\, postări pentru social media și pentru marketing. \n\n\n\n\n\n \n\n \n \n\n\n \n \n\n \n\n \n\n\n \n \n \n\n\n \n \n\n\n \n \n \n\n\n\n \n \n\n  \n\n\n \n\n\nCe vei învăța?\n\n\n\nLa partea teoretică vei învăța: \n· cum funcționează aparatul de fotografiat DSLR; \n· detalii despre blitz-urile ring flash și twin flash; \n· protocol pentru fotografii intraorale\, extraorale și de studio; \n· cum să alegi aparatul de fotografiat adaptat nevoilor tale; \n· cum să setezi aparatul să obții cele mai calitative fotografii. \n\nLa partea practică vei executa toate fotografiile intraorale\, extraorale și de studio\, vei învăța cum trebuie să te ajute asistenta când faci fotografiile intraorale și vei învăța cum sa ajustezi fotografiile pentru realizarea profilului pacientului\, postări pentru social media și pentru marketing. \nFiecare participant va avea rol de medic\, asistent și pacient. \n\n\n\nProgram:\n\n\n\n09:00 – 10:30   Teorie10:30 – 11:00   Pauză11:00 – 13:30   Practică – Fotografii intraorale și extraorale.13:30 – 14:00   Pauză14:00 – 16:30   Practică – Fotografii de studio\, realizare profil pacient și ajustare fotografii. \n\n\n\nSpeaker:\n\n\n\ndr. Simionescu Mădălin
URL:https://education.dentsim.ro/curs/fotografie-dentara-2024/
LOCATION:Clinica DentSIM\, Strada Tudor Vianu\, Numărul 3\, Etaj 4\, București\, Sector 1\, 011635\, România
ATTACH;FMTTYPE=image/png:https://education.dentsim.ro/wp-content/uploads/2023/05/curs_fotografie_ian_2024-sold-out.png
ORGANIZER;CN="DentSIM":MAILTO:education@dentsim.ro
END:VEVENT
BEGIN:VEVENT
DTSTART;TZID=Europe/Bucharest:20230127T090000
DTEND;TZID=Europe/Bucharest:20230127T150000
DTSTAMP:20260420T174906
CREATED:20221228T143813Z
LAST-MODIFIED:20241015T112927Z
UID:2685-1674810000-1674831600@education.dentsim.ro
SUMMARY:Fotografie Dentară
DESCRIPTION:Cum se desfășoară?\nÎncepem cu o scurtă parte de teorie urmând o mică pauză și ulterior partea practică în care vom crea două grupuri a câte 3 participanți. Fiecare participant va avea rol de medic\, pacient și asistent. Vom învăța tot protocolul pentru fotografiile intraorale și cele de studio. \n \nCe vei învăța?\nLa partea teoretică vei învăța: \n\ncum funcționează aparatul de fotografiat DSLR;\ndetalii despre blitz-urile ring flash și twin flash;\nprotocol pentru fotografii intraorale și de studio;\ncum să alegi aparatul de fotografiat adaptat nevoilor tale;\ncum să setezi aparatul să obții cele mai calitative fotografii.\n\nLa partea practică vei executa toate fotografiile intraorale și de studio și vei învăța cum trebuie să te ajute asistenta când faci fotografiile intraorale. \nProgram:\n09:00 – 10:30   Teorie\n10:30 – 11:00   Pauză\n11:00 – 15:00   Practică \nSpeaker:\ndr. Simionescu Mădălin
URL:https://education.dentsim.ro/curs/fotografie-dentara/
LOCATION:Clinica DentSIM\, Strada Tudor Vianu\, Numărul 3\, Etaj 4\, București\, Sector 1\, 011635\, România
ATTACH;FMTTYPE=image/png:https://education.dentsim.ro/wp-content/uploads/2023/05/curs_fotografie_ian_2024-sold-out.png
ORGANIZER;CN="DentSIM":MAILTO:education@dentsim.ro
END:VEVENT
END:VCALENDAR